BEGIN:VCALENDAR
VERSION:2.0
PRODID:-//Buffalo Ridge Golf Course - Kearney, NE - ECPv6.15.20//NONSGML v1.0//EN
CALSCALE:GREGORIAN
METHOD:PUBLISH
X-WR-CALNAME:Buffalo Ridge Golf Course - Kearney, NE
X-ORIGINAL-URL:https://buffaloridgegc.com
X-WR-CALDESC:Events for Buffalo Ridge Golf Course - Kearney, NE
REFRESH-INTERVAL;VALUE=DURATION:PT1H
X-Robots-Tag:noindex
X-PUBLISHED-TTL:PT1H
BEGIN:VTIMEZONE
TZID:UTC
BEGIN:STANDARD
TZOFFSETFROM:+0000
TZOFFSETTO:+0000
TZNAME:UTC
DTSTART:20240101T000000
END:STANDARD
END:VTIMEZONE
BEGIN:VEVENT
DTSTART;TZID=UTC:20250712T200000
DTEND;TZID=UTC:20250712T233000
DTSTAMP:20260422T153719
CREATED:20250502T144618Z
LAST-MODIFIED:20250502T144619Z
UID:10000019-1752350400-1752363000@buffaloridgegc.com
SUMMARY:Glow golf event
DESCRIPTION:Experience the best glow golf event in Kearney
URL:https://buffaloridgegc.com/event/glow-golf-event-3/2025-07-12/
LOCATION:Buffalo Ridge Golf Course\, 7335 N Ave\, Kearney\, Nebraska\, 68847
END:VEVENT
END:VCALENDAR