BEGIN:VCALENDAR
VERSION:2.0
PRODID:-//Buffalo Ridge Golf Course - Kearney, NE - ECPv6.15.20//NONSGML v1.0//EN
CALSCALE:GREGORIAN
METHOD:PUBLISH
X-WR-CALNAME:Buffalo Ridge Golf Course - Kearney, NE
X-ORIGINAL-URL:https://buffaloridgegc.com
X-WR-CALDESC:Events for Buffalo Ridge Golf Course - Kearney, NE
REFRESH-INTERVAL;VALUE=DURATION:PT1H
X-Robots-Tag:noindex
X-PUBLISHED-TTL:PT1H
BEGIN:VTIMEZONE
TZID:UTC
BEGIN:STANDARD
TZOFFSETFROM:+0000
TZOFFSETTO:+0000
TZNAME:UTC
DTSTART:20240101T000000
END:STANDARD
END:VTIMEZONE
BEGIN:VEVENT
DTSTART;TZID=UTC:20250510T200000
DTEND;TZID=UTC:20250510T233000
DTSTAMP:20260422T153952
CREATED:20250502T143732Z
LAST-MODIFIED:20250502T143733Z
UID:10000017-1746907200-1746919800@buffaloridgegc.com
SUMMARY:Glow golf event
DESCRIPTION:Experience the best glow golf event in Kearney.
URL:https://buffaloridgegc.com/event/glow-golf-event/
LOCATION:Nebraska
END:VEVENT
END:VCALENDAR