BEGIN:VCALENDAR
VERSION:2.0
PRODID:-//Buffalo Ridge Golf Course - Kearney, NE - ECPv6.15.20//NONSGML v1.0//EN
CALSCALE:GREGORIAN
METHOD:PUBLISH
X-WR-CALNAME:Buffalo Ridge Golf Course - Kearney, NE
X-ORIGINAL-URL:https://buffaloridgegc.com
X-WR-CALDESC:Events for Buffalo Ridge Golf Course - Kearney, NE
REFRESH-INTERVAL;VALUE=DURATION:PT1H
X-Robots-Tag:noindex
X-PUBLISHED-TTL:PT1H
BEGIN:VTIMEZONE
TZID:UTC
BEGIN:STANDARD
TZOFFSETFROM:+0000
TZOFFSETTO:+0000
TZNAME:UTC
DTSTART:20240101T000000
END:STANDARD
END:VTIMEZONE
BEGIN:VEVENT
DTSTART;TZID=UTC:20250701T000000
DTEND;TZID=UTC:20250701T235959
DTSTAMP:20260422T115803
CREATED:20250327T200824Z
LAST-MODIFIED:20250327T200826Z
UID:10000010-1751328000-1751414399@buffaloridgegc.com
SUMMARY:CNSGA Tournament
DESCRIPTION:
URL:https://buffaloridgegc.com/event/cnsga-tournament/
LOCATION:Nebraska
CATEGORIES:Tournaments
END:VEVENT
BEGIN:VEVENT
DTSTART;TZID=UTC:20250712T200000
DTEND;TZID=UTC:20250712T233000
DTSTAMP:20260422T115803
CREATED:20250502T144618Z
LAST-MODIFIED:20250502T144619Z
UID:10000019-1752350400-1752363000@buffaloridgegc.com
SUMMARY:Glow golf event
DESCRIPTION:Experience the best glow golf event in Kearney
URL:https://buffaloridgegc.com/event/glow-golf-event-3/2025-07-12/
LOCATION:Buffalo Ridge Golf Course\, 7335 N Ave\, Kearney\, Nebraska\, 68847
END:VEVENT
BEGIN:VEVENT
DTSTART;TZID=UTC:20250714T000000
DTEND;TZID=UTC:20250717T235959
DTSTAMP:20260422T115803
CREATED:20250327T200907Z
LAST-MODIFIED:20250327T200909Z
UID:10000011-1752451200-1752796799@buffaloridgegc.com
SUMMARY:Kids Camp
DESCRIPTION:
URL:https://buffaloridgegc.com/event/kids-camp/
LOCATION:Nebraska
CATEGORIES:Tournaments
END:VEVENT
BEGIN:VEVENT
DTSTART;TZID=UTC:20250719T000000
DTEND;TZID=UTC:20250719T235959
DTSTAMP:20260422T115803
CREATED:20250327T200932Z
LAST-MODIFIED:20250327T200934Z
UID:10000012-1752883200-1752969599@buffaloridgegc.com
SUMMARY:Herostock 4 Man Scramble
DESCRIPTION:
URL:https://buffaloridgegc.com/event/herostock-4-man-scramble/
LOCATION:Nebraska
CATEGORIES:Tournaments
END:VEVENT
BEGIN:VEVENT
DTSTART;TZID=UTC:20250726T000000
DTEND;TZID=UTC:20250726T235959
DTSTAMP:20260422T115803
CREATED:20250327T200958Z
LAST-MODIFIED:20250327T201000Z
UID:10000013-1753488000-1753574399@buffaloridgegc.com
SUMMARY:The Slim Shady Tournament
DESCRIPTION:
URL:https://buffaloridgegc.com/event/the-slim-shady-tournament/
LOCATION:Nebraska
CATEGORIES:Tournaments
END:VEVENT
END:VCALENDAR